BEGIN:VCALENDAR
VERSION:2.0
PRODID:-//PetConnect Rescue - ECPv6.13.0//NONSGML v1.0//EN
CALSCALE:GREGORIAN
METHOD:PUBLISH
X-WR-CALNAME:PetConnect Rescue
X-ORIGINAL-URL:https://www.petconnectrescue.org
X-WR-CALDESC:Events for PetConnect Rescue
REFRESH-INTERVAL;VALUE=DURATION:PT1H
X-Robots-Tag:noindex
X-PUBLISHED-TTL:PT1H
BEGIN:VTIMEZONE
TZID:America/New_York
BEGIN:DAYLIGHT
TZOFFSETFROM:-0500
TZOFFSETTO:-0400
TZNAME:EDT
DTSTART:20240310T070000
END:DAYLIGHT
BEGIN:STANDARD
TZOFFSETFROM:-0400
TZOFFSETTO:-0500
TZNAME:EST
DTSTART:20241103T060000
END:STANDARD
END:VTIMEZONE
BEGIN:VEVENT
DTSTART;TZID=America/New_York:20240217T110000
DTEND;TZID=America/New_York:20240217T130000
DTSTAMP:20260421T113321
CREATED:20240103T221156Z
LAST-MODIFIED:20240106T030101Z
UID:10725-1708167600-1708174800@www.petconnectrescue.org
SUMMARY:Adoption Event - Pet & Supplies Plus Purcellville
DESCRIPTION:Come meet some of our wonderful adoptable dogs and cats!!!
URL:https://www.petconnectrescue.org/event/adoption-event-pet-supplies-plus-purcellville/
LOCATION:Pet Supplies Plus Purcellville\, 120 Purcellville Gateway Dr\, Purcellville\, VA\, 20132
ATTACH;FMTTYPE=image/jpeg:https://www.petconnectrescue.org/wp-content/uploads/2022/01/william.jpg
END:VEVENT
END:VCALENDAR