BEGIN:VCALENDAR
VERSION:2.0
PRODID:-//PetConnect Rescue - ECPv6.13.0//NONSGML v1.0//EN
CALSCALE:GREGORIAN
METHOD:PUBLISH
X-WR-CALNAME:PetConnect Rescue
X-ORIGINAL-URL:https://www.petconnectrescue.org
X-WR-CALDESC:Events for PetConnect Rescue
REFRESH-INTERVAL;VALUE=DURATION:PT1H
X-Robots-Tag:noindex
X-PUBLISHED-TTL:PT1H
BEGIN:VTIMEZONE
TZID:America/New_York
BEGIN:DAYLIGHT
TZOFFSETFROM:-0500
TZOFFSETTO:-0400
TZNAME:EDT
DTSTART:20240310T070000
END:DAYLIGHT
BEGIN:STANDARD
TZOFFSETFROM:-0400
TZOFFSETTO:-0500
TZNAME:EST
DTSTART:20241103T060000
END:STANDARD
END:VTIMEZONE
BEGIN:VEVENT
DTSTART;TZID=America/New_York:20240224T110000
DTEND;TZID=America/New_York:20240224T130000
DTSTAMP:20260421T143118
CREATED:20240129T231743Z
LAST-MODIFIED:20240130T203416Z
UID:10740-1708772400-1708779600@www.petconnectrescue.org
SUMMARY:Adoption Event at Southern States
DESCRIPTION:Join us on February 24th\, 11-1 PM for an adoption event at Southern States in Purcellville\, VA.  We will have adorable adoptable dogs.  Come meet your new best friend!!
URL:https://www.petconnectrescue.org/event/adoption-event-at-southern-states/
LOCATION:Southern States\, 261 N 21st St.\, Purcellville\, VA\, United States
END:VEVENT
END:VCALENDAR